BEGIN:VCALENDAR
VERSION:2.0
PRODID:-//Copyright Society of the South - ECPv6.15.20//NONSGML v1.0//EN
CALSCALE:GREGORIAN
METHOD:PUBLISH
X-ORIGINAL-URL:https://copyrightsocietyofthesouth.com
X-WR-CALDESC:Events for Copyright Society of the South
REFRESH-INTERVAL;VALUE=DURATION:PT1H
X-Robots-Tag:noindex
X-PUBLISHED-TTL:PT1H
BEGIN:VTIMEZONE
TZID:America/Chicago
BEGIN:DAYLIGHT
TZOFFSETFROM:-0600
TZOFFSETTO:-0500
TZNAME:CDT
DTSTART:20230312T080000
END:DAYLIGHT
BEGIN:STANDARD
TZOFFSETFROM:-0500
TZOFFSETTO:-0600
TZNAME:CST
DTSTART:20231105T070000
END:STANDARD
BEGIN:DAYLIGHT
TZOFFSETFROM:-0600
TZOFFSETTO:-0500
TZNAME:CDT
DTSTART:20240310T080000
END:DAYLIGHT
BEGIN:STANDARD
TZOFFSETFROM:-0500
TZOFFSETTO:-0600
TZNAME:CST
DTSTART:20241103T070000
END:STANDARD
BEGIN:DAYLIGHT
TZOFFSETFROM:-0600
TZOFFSETTO:-0500
TZNAME:CDT
DTSTART:20250309T080000
END:DAYLIGHT
BEGIN:STANDARD
TZOFFSETFROM:-0500
TZOFFSETTO:-0600
TZNAME:CST
DTSTART:20251102T070000
END:STANDARD
END:VTIMEZONE
BEGIN:VEVENT
DTSTART;TZID=America/Chicago:20240508T113000
DTEND;TZID=America/Chicago:20240508T130000
DTSTAMP:20260420T015917
CREATED:20240426T163358Z
LAST-MODIFIED:20240502T205314Z
UID:2114-1715167800-1715173200@copyrightsocietyofthesouth.com
SUMMARY:May 8\, 2024 - Neighboring Rights 101
DESCRIPTION:The Copyright Society of the South is pleased to host a presentation on all things Neighboring Rights. Darcie Molina\, from Kollective Neighboring Rights\, will join us virtually to provide an overview for both sound recording owners and artists in this complicated area of our industry\, along with Ryan Lehning from SoundExchange\, who will join us in person to discuss legal issues related to these rights (in particular\, how US rights owners are treated). There will be plenty of time for questions\, so be ready to learn more about how Neighboring Rights fits into the world of royalty collections and bring any questions you may have for our experts on hand. \nGuest Speakers:  \nDarcie Molina\, VP of Client Relations for Kollective Neighbouring Rights\, has worked in Neighbouring Rights for 7 years\, managing the KNR Client Relations team and helping performers\, labels\, and their teams understand this complex area of the music business and maximize their earnings.   Prior to working in the music industry she managed teams and client relations in the special education sector for 15 years. \n  \nDarcie Molina \nRyan Lehning is Assistant General Counsel\, International at SoundExchange\, responsible for international activities on behalf of the company’s member artists and labels. Prior to joining SoundExchange\, Ryan served as counsel with SONY BMG Music Entertainment in New York where he handled copyright\, trademark\, e-commerce\, new media\, and other intellectual property matters. Prior to SONY BMG\, Ryan was an associate in the law firm of Smith & Metalitz LLP in Washington DC where his practice focused on domestic and international copyright matters for a diverse portfolio of clients in the music\, film\, television\, software\, and book publishing industries. In addition\, Ryan served as counsel for the Coalition on Online Accountability\, a group working to ensure the enforcement of copyright protection in the online world. Ryan is a graduate of Georgetown University Law Center (2002) and Belmont University (1997). \n  \nRyan Lehning \n  \n\nSociety members must be in good standing and registered prior to the meeting in order to attend.  Contact  copyrightsocietyofthesouth@gmail.com if you have not received your invitation via email.
URL:https://copyrightsocietyofthesouth.com/event/may-8-2024-the-lowdown-on-ancillary-neighboring-rights/
CATEGORIES:Calendar of Events,Upcoming Events
END:VEVENT
END:VCALENDAR