BEGIN:VCALENDAR
VERSION:2.0
PRODID:-//Copyright Society of the South - ECPv6.15.20//NONSGML v1.0//EN
CALSCALE:GREGORIAN
METHOD:PUBLISH
X-WR-CALNAME:Copyright Society of the South
X-ORIGINAL-URL:https://copyrightsocietyofthesouth.com
X-WR-CALDESC:Events for Copyright Society of the South
REFRESH-INTERVAL;VALUE=DURATION:PT1H
X-Robots-Tag:noindex
X-PUBLISHED-TTL:PT1H
BEGIN:VTIMEZONE
TZID:America/Chicago
BEGIN:DAYLIGHT
TZOFFSETFROM:-0600
TZOFFSETTO:-0500
TZNAME:CDT
DTSTART:20220313T080000
END:DAYLIGHT
BEGIN:STANDARD
TZOFFSETFROM:-0500
TZOFFSETTO:-0600
TZNAME:CST
DTSTART:20221106T070000
END:STANDARD
BEGIN:DAYLIGHT
TZOFFSETFROM:-0600
TZOFFSETTO:-0500
TZNAME:CDT
DTSTART:20230312T080000
END:DAYLIGHT
BEGIN:STANDARD
TZOFFSETFROM:-0500
TZOFFSETTO:-0600
TZNAME:CST
DTSTART:20231105T070000
END:STANDARD
BEGIN:DAYLIGHT
TZOFFSETFROM:-0600
TZOFFSETTO:-0500
TZNAME:CDT
DTSTART:20240310T080000
END:DAYLIGHT
BEGIN:STANDARD
TZOFFSETFROM:-0500
TZOFFSETTO:-0600
TZNAME:CST
DTSTART:20241103T070000
END:STANDARD
END:VTIMEZONE
BEGIN:VEVENT
DTSTART;TZID=America/Chicago:20230329T113000
DTEND;TZID=America/Chicago:20230329T130000
DTSTAMP:20260421T012746
CREATED:20230315T191231Z
LAST-MODIFIED:20230315T191320Z
UID:1931-1680089400-1680094800@copyrightsocietyofthesouth.com
SUMMARY:March 29\, 2023 - On The Shoulders Of Giants
DESCRIPTION:Learn how and why the Copyright Society of the South was formed\n~\nHow the music industry has changed over the last 40 years\n~\nWhat industry veterans think about the future of the business\n~\n…and hear some great industry stories  from 3 of the original founders of our organization! \nMembers\, join us for an executive boxed lunch and network with fellow members and guests! RSVP is required for admittance to the event. \n___________________ \n****This is a private event for Society members and their registered guests.  If you are interested in becoming a member of the Copyright Society of the South\, or if you are an active member and did not receive your email invitation\,  contact us at copyrightsocietyofthesouth@gmail.com .***
URL:https://copyrightsocietyofthesouth.com/event/march-29-2023-on-the-shoulders-of-giants/
CATEGORIES:Calendar of Events,Upcoming Events
END:VEVENT
END:VCALENDAR