BEGIN:VCALENDAR
VERSION:2.0
PRODID:-//Copyright Society of the South - ECPv6.15.20//NONSGML v1.0//EN
CALSCALE:GREGORIAN
METHOD:PUBLISH
X-ORIGINAL-URL:https://copyrightsocietyofthesouth.com
X-WR-CALDESC:Events for Copyright Society of the South
REFRESH-INTERVAL;VALUE=DURATION:PT1H
X-Robots-Tag:noindex
X-PUBLISHED-TTL:PT1H
BEGIN:VTIMEZONE
TZID:America/Chicago
BEGIN:DAYLIGHT
TZOFFSETFROM:-0600
TZOFFSETTO:-0500
TZNAME:CDT
DTSTART:20210314T080000
END:DAYLIGHT
BEGIN:STANDARD
TZOFFSETFROM:-0500
TZOFFSETTO:-0600
TZNAME:CST
DTSTART:20211107T070000
END:STANDARD
BEGIN:DAYLIGHT
TZOFFSETFROM:-0600
TZOFFSETTO:-0500
TZNAME:CDT
DTSTART:20220313T080000
END:DAYLIGHT
BEGIN:STANDARD
TZOFFSETFROM:-0500
TZOFFSETTO:-0600
TZNAME:CST
DTSTART:20221106T070000
END:STANDARD
BEGIN:DAYLIGHT
TZOFFSETFROM:-0600
TZOFFSETTO:-0500
TZNAME:CDT
DTSTART:20230312T080000
END:DAYLIGHT
BEGIN:STANDARD
TZOFFSETFROM:-0500
TZOFFSETTO:-0600
TZNAME:CST
DTSTART:20231105T070000
END:STANDARD
END:VTIMEZONE
BEGIN:VEVENT
DTSTART;TZID=America/Chicago:20220823T120000
DTEND;TZID=America/Chicago:20220823T130000
DTSTAMP:20260421T150418
CREATED:20220809T202431Z
LAST-MODIFIED:20220809T202504Z
UID:1825-1661256000-1661259600@copyrightsocietyofthesouth.com
SUMMARY:Webinar:  The Phonorecords III Remand - What does this mean for the copyright holder?
DESCRIPTION:Danielle Aguirre\, Executive Vice President & General Counsel of the National Music Publishers’ Association (NMPA)\, will present information regarding the Phonorecords II Remand\, updates since the July 1 response to the CRB\, and the Remand’s potential impacts to the copyright landscape. \nAbout Danielle Aguirre \nDanielle oversees all of NMPA’s legal\, business and policy objectives.  Her role is to protect and enforce the copyrights and intellectual property interests of songwriters and music publishers.  Ms. Aguirre has aggressively fought digital piracy and infringement litigating against digital platforms\, and she works with the largest companies\, digital services and record labels to ensure that publishers and songwriters are being fairly compensated for the use of their songs. \n \nMs. Aguirre was integrally involved in the negotiation\, drafting and passage of the Music Modernization Act\, legislation that amended U.S. Copyright law and led to the creation of a new licensing company\, the Mechanical Licensing Collective (MLC).  After co-leading a team that developed the MLC\, she currently serves as the statutorily designated non-voting publisher representative on the MLC board.  In 2018\, Billboard honored her as the Women in Music Co-Executive of the Year for her work on the MMA and MLC. \n \nPrior to joining NMPA\, Ms. Aguirre was an attorney at Paul\, Weiss\, Rifkind\, Wharton and Garrison LLP. She received her JD from the University of Pennsylvania Law School and her BA from Georgetown University. \nAbout the NMPA (www.nmpa.org) \nFounded in 1917\, the National Music Publishers’ Association (NMPA) is the trade association representing all American music publishers and their songwriting partners. The NMPA’s mandate is to protect and advance the interests of music publishers and songwriters in matters relating to the domestic and global protection of music copyrights.  \n____________________ \n****This is a private online event for Society members and their registered guests.  If you are interested in becoming a member of the Copyright Society of the South\, contact us today at copyrightsocietyofthesouth@gmail.com .*** \n 
URL:https://copyrightsocietyofthesouth.com/event/webinar-the-phonorecords-iii-remand-what-does-this-mean-for-the-copyright-holder/
LOCATION:Webinar
CATEGORIES:Calendar of Events,Upcoming Events
END:VEVENT
END:VCALENDAR