BEGIN:VCALENDAR
VERSION:2.0
PRODID:-//Copyright Society of the South - ECPv6.15.20//NONSGML v1.0//EN
CALSCALE:GREGORIAN
METHOD:PUBLISH
X-WR-CALNAME:Copyright Society of the South
X-ORIGINAL-URL:https://copyrightsocietyofthesouth.com
X-WR-CALDESC:Events for Copyright Society of the South
REFRESH-INTERVAL;VALUE=DURATION:PT1H
X-Robots-Tag:noindex
X-PUBLISHED-TTL:PT1H
BEGIN:VTIMEZONE
TZID:America/Chicago
BEGIN:DAYLIGHT
TZOFFSETFROM:-0600
TZOFFSETTO:-0500
TZNAME:CDT
DTSTART:20200308T080000
END:DAYLIGHT
BEGIN:STANDARD
TZOFFSETFROM:-0500
TZOFFSETTO:-0600
TZNAME:CST
DTSTART:20201101T070000
END:STANDARD
BEGIN:DAYLIGHT
TZOFFSETFROM:-0600
TZOFFSETTO:-0500
TZNAME:CDT
DTSTART:20210314T080000
END:DAYLIGHT
BEGIN:STANDARD
TZOFFSETFROM:-0500
TZOFFSETTO:-0600
TZNAME:CST
DTSTART:20211107T070000
END:STANDARD
BEGIN:DAYLIGHT
TZOFFSETFROM:-0600
TZOFFSETTO:-0500
TZNAME:CDT
DTSTART:20220313T080000
END:DAYLIGHT
BEGIN:STANDARD
TZOFFSETFROM:-0500
TZOFFSETTO:-0600
TZNAME:CST
DTSTART:20221106T070000
END:STANDARD
END:VTIMEZONE
BEGIN:VEVENT
DTSTART;TZID=America/Chicago:20210324T113000
DTEND;TZID=America/Chicago:20210324T123000
DTSTAMP:20260423T001826
CREATED:20210309T143940Z
LAST-MODIFIED:20210309T143940Z
UID:1586-1616585400-1616589000@copyrightsocietyofthesouth.com
SUMMARY:March 24\, 2021 - Colin Rushing | SXWorks
DESCRIPTION:GUEST SPEAKER:  Colin Rushing \n \nColin Rushing is Chief Legal Officer for SoundExchange (www.soundexchange.com)\, overseeing the organization’s legal\, regulatory\, and corporate affairs\, supervises rate setting proceedings\, directs the organization’s enforcement program\, and plays a key role in shaping SoundExchange’s strategic development.   At this event Colin will discuss SXWorks\, the SoundExchange company formed to serve the publishing industry\, and also provide a brief update about the latest webcasting proceeding. \nColin originally joined SoundExchange in the role of Senior Counsel for Licensing and Enforcement\, in which position he developed a comprehensive enforcement program\, advised the organization on regulatory matters\, and helped manage rate-setting proceedings. \nRushing is a graduate of James Madison University and the University of Virginia School of Law. After law school\, he clerked for the Hon. T.S. Ellis III in the United States District Court for the Eastern District of Virginia. Before joining SoundExchange Colin was an attorney at Wilmer Cutler Pickering Hale and Dorr LLP Washington\, D.C.\, where he focused on intellectual property and media law. \n****This is a private event for Society members and their registered guests.  If you are interested in becoming a member of the Copyright Society of the South\, contact us today!***
URL:https://copyrightsocietyofthesouth.com/event/march-24-2021-colin-rushing-sxworks/
LOCATION:Webinar
CATEGORIES:Calendar of Events,Upcoming Events
END:VEVENT
END:VCALENDAR