BEGIN:VCALENDAR
VERSION:2.0
PRODID:-//Copyright Society of the South - ECPv6.15.20//NONSGML v1.0//EN
CALSCALE:GREGORIAN
METHOD:PUBLISH
X-WR-CALNAME:Copyright Society of the South
X-ORIGINAL-URL:https://copyrightsocietyofthesouth.com
X-WR-CALDESC:Events for Copyright Society of the South
REFRESH-INTERVAL;VALUE=DURATION:PT1H
X-Robots-Tag:noindex
X-PUBLISHED-TTL:PT1H
BEGIN:VTIMEZONE
TZID:America/Chicago
BEGIN:DAYLIGHT
TZOFFSETFROM:-0600
TZOFFSETTO:-0500
TZNAME:CDT
DTSTART:20200308T080000
END:DAYLIGHT
BEGIN:STANDARD
TZOFFSETFROM:-0500
TZOFFSETTO:-0600
TZNAME:CST
DTSTART:20201101T070000
END:STANDARD
BEGIN:DAYLIGHT
TZOFFSETFROM:-0600
TZOFFSETTO:-0500
TZNAME:CDT
DTSTART:20210314T080000
END:DAYLIGHT
BEGIN:STANDARD
TZOFFSETFROM:-0500
TZOFFSETTO:-0600
TZNAME:CST
DTSTART:20211107T070000
END:STANDARD
BEGIN:DAYLIGHT
TZOFFSETFROM:-0600
TZOFFSETTO:-0500
TZNAME:CDT
DTSTART:20220313T080000
END:DAYLIGHT
BEGIN:STANDARD
TZOFFSETFROM:-0500
TZOFFSETTO:-0600
TZNAME:CST
DTSTART:20221106T070000
END:STANDARD
END:VTIMEZONE
BEGIN:VEVENT
DTSTART;TZID=America/Chicago:20210225T113000
DTEND;TZID=America/Chicago:20210225T123000
DTSTAMP:20260423T020137
CREATED:20210204T174845Z
LAST-MODIFIED:20210204T174845Z
UID:1579-1614252600-1614256200@copyrightsocietyofthesouth.com
SUMMARY:February 25\, 2021 - Updates from the Copyright Office
DESCRIPTION:GUEST SPEAKER:  Regan Smith \nRegan Smith is the General Counsel and Associate Register of Copyrights for the United States Copyright Office. She was appointed to the position effective May 27\, 2018.In her position as General Counsel\, Smith provides legal guidance to the various divisions and programs of the Office\, including the national registration and recordation systems\, and she is frequently called upon by congressional offices\, the U.S. Department of Justice\, and other federal agencies for advice and assistance. She also has primary responsibility for the formation and promulgation of regulations and the adoption of legal positions governing policy matters and practices of the Copyright Office. Since joining the Office\, Smith has been involved in music copyright issues\, including advising congressional offices with respect to the Music Modernization Act\, and she now leads the Office’s efforts to implement this historic law through regulatory and other activities on behalf of the Register of Copyrights. \nBefore joining the Copyright Office\, Smith spent several years in private practice\, where she represented a variety of clients in matters concerning copyright\, technology\, media\, and related intellectual property issues. Smith earned her JD from Harvard Law School\, and her BA in philosophy and political science from the University of Michigan. Prior to attending law school\, Smith worked at a start-up enterprise on various film\, theatrical\, music\, and emerging media projects. \n****This is a private Zoom webinar event for Society members and their guests.  If you are interested in becoming a member of the Copyright Society of the South\, contact us today!***
URL:https://copyrightsocietyofthesouth.com/event/february-25-2021-updates-from-the-copyright-office/
LOCATION:Webinar\, Members: Please use link provided in email invitation
CATEGORIES:Calendar of Events,Upcoming Events
END:VEVENT
END:VCALENDAR