BEGIN:VCALENDAR
VERSION:2.0
PRODID:-//Copyright Society of the South - ECPv6.15.20//NONSGML v1.0//EN
CALSCALE:GREGORIAN
METHOD:PUBLISH
X-ORIGINAL-URL:https://copyrightsocietyofthesouth.com
X-WR-CALDESC:Events for Copyright Society of the South
REFRESH-INTERVAL;VALUE=DURATION:PT1H
X-Robots-Tag:noindex
X-PUBLISHED-TTL:PT1H
BEGIN:VTIMEZONE
TZID:America/Chicago
BEGIN:DAYLIGHT
TZOFFSETFROM:-0600
TZOFFSETTO:-0500
TZNAME:CDT
DTSTART:20190310T080000
END:DAYLIGHT
BEGIN:STANDARD
TZOFFSETFROM:-0500
TZOFFSETTO:-0600
TZNAME:CST
DTSTART:20191103T070000
END:STANDARD
BEGIN:DAYLIGHT
TZOFFSETFROM:-0600
TZOFFSETTO:-0500
TZNAME:CDT
DTSTART:20200308T080000
END:DAYLIGHT
BEGIN:STANDARD
TZOFFSETFROM:-0500
TZOFFSETTO:-0600
TZNAME:CST
DTSTART:20201101T070000
END:STANDARD
BEGIN:DAYLIGHT
TZOFFSETFROM:-0600
TZOFFSETTO:-0500
TZNAME:CDT
DTSTART:20210314T080000
END:DAYLIGHT
BEGIN:STANDARD
TZOFFSETFROM:-0500
TZOFFSETTO:-0600
TZNAME:CST
DTSTART:20211107T070000
END:STANDARD
END:VTIMEZONE
BEGIN:VEVENT
DTSTART;TZID=America/Chicago:20200218T113000
DTEND;TZID=America/Chicago:20200218T130000
DTSTAMP:20260424T112700
CREATED:20200123T160604Z
LAST-MODIFIED:20200123T160627Z
UID:1454-1582025400-1582030800@copyrightsocietyofthesouth.com
SUMMARY:Legislative Updates with Bart Herbison - February 18\, 2020
DESCRIPTION:GUEST SPEAKER: Bart Herbison\, Executive Director of the Nashville Songwriters Association International (NSAI) \n \nBart Herbison is Executive Director of the Nashville Songwriters Association International (NSAI)\, the world’s largest not-for-profit songwriters trade organization dedicated to the songwriting profession. Established in 1967\, the organization’s membership of nearly 5\,000 spans the United States and many other countries. With more than 100 chapters\, NSAI is dedicated to protecting songwriter’s rights and serves aspiring and professional songwriters in all genres of music. NSAI also owns The Bluebird Cafe in Nashville\, Tennessee. \nUnder Herbison’s leadership NSAI gained prominence in the national legislative arena. Accomplishments include: · Passage of the landmark “Songwriters Capital Gains Tax Equity Act” in 2006 · Creating the first-ever Group Copyright Infringement Insurance for songwriters and music publishers. · Purchase of the “Music Mill” studios as NSAI headquarters in 2005 · Acquisition of the world-famous “Bluebird Café” in 2008. \nA Paris\, Tenn.\, native\, Herbison worked as a reporter and spent 14 years in radio before joining the staff of former Tennessee Governor Ned McWherter in 1987. Herbison joined the staff of U.S. Rep. Bob Clement (D-Nashville) in 1988. During the next 10 years\, Herbison served as the Tennessee Congressman’s Press Secretary\, Campaign Manager and Chief Administrative Officer before leaving Capitol Hill for Music Row in 1997. \nHis first movie role is in “Wheeler” starring Stephen Dorff in the title role\, where Herbison portrays himself. He was also featured in the documentary “The Last Songwriter\,” released in 2017. \n****This is a private event for Society members and their guests.  If you are interested in becoming a member of the Copyright Society of the South\, contact us today!*** \n 
URL:https://copyrightsocietyofthesouth.com/event/legislative-updates-with-bart-herbison-february-18-2020/
LOCATION:ASCAP\, 2 Music Square West\, Nashville\, TN\, 37203\, United States
CATEGORIES:Calendar of Events,Upcoming Events
END:VEVENT
END:VCALENDAR