BEGIN:VCALENDAR
VERSION:2.0
PRODID:-//Copyright Society of the South - ECPv6.15.20//NONSGML v1.0//EN
CALSCALE:GREGORIAN
METHOD:PUBLISH
X-ORIGINAL-URL:https://copyrightsocietyofthesouth.com
X-WR-CALDESC:Events for Copyright Society of the South
REFRESH-INTERVAL;VALUE=DURATION:PT1H
X-Robots-Tag:noindex
X-PUBLISHED-TTL:PT1H
BEGIN:VTIMEZONE
TZID:America/Chicago
BEGIN:DAYLIGHT
TZOFFSETFROM:-0600
TZOFFSETTO:-0500
TZNAME:CDT
DTSTART:20170312T080000
END:DAYLIGHT
BEGIN:STANDARD
TZOFFSETFROM:-0500
TZOFFSETTO:-0600
TZNAME:CST
DTSTART:20171105T070000
END:STANDARD
BEGIN:DAYLIGHT
TZOFFSETFROM:-0600
TZOFFSETTO:-0500
TZNAME:CDT
DTSTART:20180311T080000
END:DAYLIGHT
BEGIN:STANDARD
TZOFFSETFROM:-0500
TZOFFSETTO:-0600
TZNAME:CST
DTSTART:20181104T070000
END:STANDARD
BEGIN:DAYLIGHT
TZOFFSETFROM:-0600
TZOFFSETTO:-0500
TZNAME:CDT
DTSTART:20190310T080000
END:DAYLIGHT
BEGIN:STANDARD
TZOFFSETFROM:-0500
TZOFFSETTO:-0600
TZNAME:CST
DTSTART:20191103T070000
END:STANDARD
END:VTIMEZONE
BEGIN:VEVENT
DTSTART;TZID=America/Chicago:20181206T113000
DTEND;TZID=America/Chicago:20181206T130000
DTSTAMP:20260424T204232
CREATED:20181116T162747Z
LAST-MODIFIED:20181127T163158Z
UID:1263-1544095800-1544101200@copyrightsocietyofthesouth.com
SUMMARY:December 6\, 2018 - The Copyright Year In Review: 2018
DESCRIPTION:GUEST SPEAKER:  Stan Soocher\, Associate Professor of Music & Entertainment Industry Studies at the University of Colorado’s Denver Campus  \nStan Soocher is the long-time Editor-in-Chief of Entertainment Law & Finance. He is also Professor of Music & Entertainment Industry Studies at the University of Colorado’s Denver Campus. In addition\, Stan is an award-winning journalist and entertainment attorney. He is author of the books Baby You’re a Rich Man: Suing the Beatles for Fun & Profit and They Fought the Law: Rock Music Goes to Court\, the latter which is now available in an updated\, expanded edition in Amazon’s Kindle Store. \nThis is Stan’s 22d consecutive year presenting to the Copyright Society of the South. \nAdditionally\, Stan has presented solo speeches and/or participated on panels on entertainment law and industry developments\, at among many other venues: the American Bar Association\, N.Y. State Bar Association\, Nashville Bar Association\, South-By-Southwest Music Conference\, Dallas Bar Association\, Los Angeles County Bar\, D.C. Bar\, Colorado Bar Association\, Minnesota State Bar\, Liverpool Sound City Conference\, Georgia Bar\, New Jersey Bar\, Connecticut Bar\, Florida Bar\, California Lawyers for the Arts\, Southern University Law Center\, Harvard Law School\, Vanderbilt University School of Law\, New York University Law School\, Indiana University School of Law\, Loyola Law School in Los Angeles\, Fordham University School of Law\, New York Women in Film and Television\, Dartmouth Lawyers Association\, National Music Publishers Association\, the Seattle Museum of Pop Culture\, the Music and Entertainment Industry Educators Association\, and the College Music Society. \n*This is a private event for Society members and their guests.  If you are interested in becoming a member of the Copyright Society of the South\, please contact us today!*
URL:https://copyrightsocietyofthesouth.com/event/december-6-2018-the-copyright-year-in-review-2018/
LOCATION:ASCAP\, 2 Music Square West\, Nashville\, TN\, 37203\, United States
CATEGORIES:Calendar of Events,Luncheon,Upcoming Events
END:VEVENT
END:VCALENDAR