BEGIN:VCALENDAR
VERSION:2.0
PRODID:-//Copyright Society of the South - ECPv6.15.20//NONSGML v1.0//EN
CALSCALE:GREGORIAN
METHOD:PUBLISH
X-WR-CALNAME:Copyright Society of the South
X-ORIGINAL-URL:https://copyrightsocietyofthesouth.com
X-WR-CALDESC:Events for Copyright Society of the South
REFRESH-INTERVAL;VALUE=DURATION:PT1H
X-Robots-Tag:noindex
X-PUBLISHED-TTL:PT1H
BEGIN:VTIMEZONE
TZID:America/Chicago
BEGIN:DAYLIGHT
TZOFFSETFROM:-0600
TZOFFSETTO:-0500
TZNAME:CDT
DTSTART:20170312T080000
END:DAYLIGHT
BEGIN:STANDARD
TZOFFSETFROM:-0500
TZOFFSETTO:-0600
TZNAME:CST
DTSTART:20171105T070000
END:STANDARD
BEGIN:DAYLIGHT
TZOFFSETFROM:-0600
TZOFFSETTO:-0500
TZNAME:CDT
DTSTART:20180311T080000
END:DAYLIGHT
BEGIN:STANDARD
TZOFFSETFROM:-0500
TZOFFSETTO:-0600
TZNAME:CST
DTSTART:20181104T070000
END:STANDARD
BEGIN:DAYLIGHT
TZOFFSETFROM:-0600
TZOFFSETTO:-0500
TZNAME:CDT
DTSTART:20190310T080000
END:DAYLIGHT
BEGIN:STANDARD
TZOFFSETFROM:-0500
TZOFFSETTO:-0600
TZNAME:CST
DTSTART:20191103T070000
END:STANDARD
END:VTIMEZONE
BEGIN:VEVENT
DTSTART;TZID=America/Chicago:20180928T113000
DTEND;TZID=America/Chicago:20180928T130000
DTSTAMP:20260424T233050
CREATED:20180830T140923Z
LAST-MODIFIED:20180830T140923Z
UID:1198-1538134200-1538139600@copyrightsocietyofthesouth.com
SUMMARY:"Blurred Lines" Lawyer Lifts the Veil on His Significant Entertainment Cases
DESCRIPTION:GUEST SPEAKER:  Richard S. Busch \nRichard S. Busch is a Partner in the Litigation Section and is Head of the Entertainment and Intellectual Property Sections of King & Ballow. His practice areas include Litigation (State and Federal)\, Entertainment Litigation\, Intellectual Property Litigation\, and Commercial Litigation. Prior to joining the firm\, Mr. Busch served as Law Clerk to the Honorable John V. Parker\, Chief Judge of the United States District Court for the Middle District of Louisiana. \nMr. Busch received his law degree from Loyola University Law School where he was a member of the Loyola University Law Review and the Moot Court Board\, serving as Spring National Team Coach. In addition\, Mr. Busch received the American Jurisprudence Award for Secured Transactions and the Fishman Award as the outstanding commercial law student. \nMr. Busch has successfully represented clients in numerous trial and appellate court cases. In the action styled F.B.T. Productions\, LLC v. Aftermath Records\, et al.\, Mr. Busch represented the Plaintiff\, who discovered\, produced\, and co-wrote some of recording artist Eminem’s biggest hits\, in the landmark case\, in which the United States Court of Appeals for the Ninth Circuit entered judgment in favor of F.B.T.\, finding that the agreements between record label Universal and digital download providers like iTunes\, are licenses\, and Eminem’s recording agreement entitled him and F.B.T. to 50 percent of Universal’s net receipts for sales by iTunes and others of Eminem songs. The full decision may be found at 2010 U.S. App. LEXIS 18450 (9th Cir. Sept. 3\, 2010). Mr. Busch has represented many other artists in similar lawsuits and in connection with similar claims. \nTo see Mr. Busch’s full bio\, please click here:  https://kingballow.com/attorneys/richard-busch/ \nThis is a private luncheon event for Society members and their guests.  If you are interested in becoming a member of the Copyright Society of the South\, please contact us today!
URL:https://copyrightsocietyofthesouth.com/event/blurred-lines-lawyer-lifts-the-veil-on-his-significant-entertainment-cases/
LOCATION:ASCAP\, 2 Music Square West\, Nashville\, TN\, 37203\, United States
CATEGORIES:Calendar of Events,Luncheon,Upcoming Events
END:VEVENT
END:VCALENDAR