BEGIN:VCALENDAR
VERSION:2.0
PRODID:-//Copyright Society of the South - ECPv6.15.20//NONSGML v1.0//EN
CALSCALE:GREGORIAN
METHOD:PUBLISH
X-ORIGINAL-URL:https://copyrightsocietyofthesouth.com
X-WR-CALDESC:Events for Copyright Society of the South
REFRESH-INTERVAL;VALUE=DURATION:PT1H
X-Robots-Tag:noindex
X-PUBLISHED-TTL:PT1H
BEGIN:VTIMEZONE
TZID:America/Chicago
BEGIN:DAYLIGHT
TZOFFSETFROM:-0600
TZOFFSETTO:-0500
TZNAME:CDT
DTSTART:20220313T080000
END:DAYLIGHT
BEGIN:STANDARD
TZOFFSETFROM:-0500
TZOFFSETTO:-0600
TZNAME:CST
DTSTART:20221106T070000
END:STANDARD
BEGIN:DAYLIGHT
TZOFFSETFROM:-0600
TZOFFSETTO:-0500
TZNAME:CDT
DTSTART:20230312T080000
END:DAYLIGHT
BEGIN:STANDARD
TZOFFSETFROM:-0500
TZOFFSETTO:-0600
TZNAME:CST
DTSTART:20231105T070000
END:STANDARD
BEGIN:DAYLIGHT
TZOFFSETFROM:-0600
TZOFFSETTO:-0500
TZNAME:CDT
DTSTART:20240310T080000
END:DAYLIGHT
BEGIN:STANDARD
TZOFFSETFROM:-0500
TZOFFSETTO:-0600
TZNAME:CST
DTSTART:20241103T070000
END:STANDARD
END:VTIMEZONE
BEGIN:VEVENT
DTSTART;TZID=America/Chicago:20231207T113000
DTEND;TZID=America/Chicago:20231207T130000
DTSTAMP:20260420T215235
CREATED:20231027T162826Z
LAST-MODIFIED:20231027T162855Z
UID:2012-1701948600-1701954000@copyrightsocietyofthesouth.com
SUMMARY:December 7\, 2023 - Annual Copyright Review With Stan Soocher!
DESCRIPTION:Honorary Society Member Stan Soocher is an award-winning journalist and entertainment attorney\, as well as the long-time Editor-in-Chief of Entertainment Law & Finance\, an ALM publication. In addition\, Stan is Professor Emeritus of Music & Entertainment Industry Studies at the University of Colorado Denver\, where he served as a Music Department Chair. \nSoocher has given speeches on entertainment law and related industry issues to bar associations and/or entertainment industry conferences in Los Angeles\, Nashville\, New York\, Austin\, Washington\, D.C.\, the United Kingdom\, Germany\, Las Vegas\, Miami\, Oregon\, Minnesota\, Virginia\, Washington State\, Orlando\, Atlanta\, Boston\, New Orleans\, North Carolina\, New Jersey and Colorado\, among other locations. \nStan is a recipient of the State Bar of Texas Entertainment & Sports Law Section’s “Texas Star Award.” The award is given to an individual “who has made a major and noteworthy contribution to the practice of entertainment law.” Also during his career\, Stan has received ASCAP Deems Taylor Awards for excellence in music journalism\, including for his music law articles in Rolling Stone\, The National Law Journal and Musician Magazine. \nSoocher has authored the books Baby You’re a Rich Man: Suing the Beatles for Fun & Profit and They Fought the Law: Rock Music Goes to Court. Stan wrote the chapter “Twenty-First-Century Patronage: The Road to Billy Joel’s Madison Square Garden Concert Residency” in the 2020 book We Didn’t Start the Fire: Billy Joel and Popular Music Studies \, edited by Joshua S. Duchan and Ryan Raul Bañagale/Lexington Books. Billy Joel wrote the book’s Foreword. \nStan holds B.A. and M.A. degrees in English from the University of Florida and a J.D. from New York Law School. He is also a drummer. \n___________________ \nMembers\, join us for a delicious holiday buffet and network with fellow members and guests! RSVP is required for admittance to this event. \n___________________ \n****This is a private event for Society members and their registered guests.  If you are interested in becoming a member of the Copyright Society of the South\, or if you are an active member and did not receive your email invitation\,  contact us at copyrightsocietyofthesouth@gmail.com .***
URL:https://copyrightsocietyofthesouth.com/event/december-7-2023-annual-copyright-review-with-stan-soocher/
CATEGORIES:Calendar of Events,Upcoming Events
END:VEVENT
END:VCALENDAR