BEGIN:VCALENDAR
VERSION:2.0
PRODID:-//Copyright Society of the South - ECPv6.15.20//NONSGML v1.0//EN
CALSCALE:GREGORIAN
METHOD:PUBLISH
X-ORIGINAL-URL:https://copyrightsocietyofthesouth.com
X-WR-CALDESC:Events for Copyright Society of the South
REFRESH-INTERVAL;VALUE=DURATION:PT1H
X-Robots-Tag:noindex
X-PUBLISHED-TTL:PT1H
BEGIN:VTIMEZONE
TZID:America/Chicago
BEGIN:DAYLIGHT
TZOFFSETFROM:-0600
TZOFFSETTO:-0500
TZNAME:CDT
DTSTART:20230312T080000
END:DAYLIGHT
BEGIN:STANDARD
TZOFFSETFROM:-0500
TZOFFSETTO:-0600
TZNAME:CST
DTSTART:20231105T070000
END:STANDARD
BEGIN:DAYLIGHT
TZOFFSETFROM:-0600
TZOFFSETTO:-0500
TZNAME:CDT
DTSTART:20240310T080000
END:DAYLIGHT
BEGIN:STANDARD
TZOFFSETFROM:-0500
TZOFFSETTO:-0600
TZNAME:CST
DTSTART:20241103T070000
END:STANDARD
BEGIN:DAYLIGHT
TZOFFSETFROM:-0600
TZOFFSETTO:-0500
TZNAME:CDT
DTSTART:20250309T080000
END:DAYLIGHT
BEGIN:STANDARD
TZOFFSETFROM:-0500
TZOFFSETTO:-0600
TZNAME:CST
DTSTART:20251102T070000
END:STANDARD
END:VTIMEZONE
BEGIN:VEVENT
DTSTART;TZID=America/Chicago:20240912T160000
DTEND;TZID=America/Chicago:20240912T180000
DTSTAMP:20260419T212058
CREATED:20240722T145549Z
LAST-MODIFIED:20240828T160224Z
UID:2140-1726156800-1726164000@copyrightsocietyofthesouth.com
SUMMARY:September Happy Hour Mixer with Craig Wiseman and Derek Crownover
DESCRIPTION:Members\, you are cordially invited to our September Happy Hour Mixer with Special Guests Craig Wiseman and Derek Crownover!  Bring a friend (or 2 or 3) to learn more about membership in the Society! Guests attend free! Beverages and Light Snacks will be available. \nDerek will interview Craig about his musical journey – you don’t want to miss this! \n  \n Craig Wiseman \nDerek Crownover \nRSVP is required – cutoff date is September 9\, 2024. \n\n****This is a private event for Society members and their registered guests.  If you are interested in becoming a member of the Copyright Society of the South\, or if you are an active member and did not receive your email invitation\,  contact us at copyrightsocietyofthesouth@gmail.com .***
URL:https://copyrightsocietyofthesouth.com/event/september-mixer-membership-drive/
CATEGORIES:Calendar of Events,Upcoming Events
END:VEVENT
END:VCALENDAR