BEGIN:VCALENDAR
VERSION:2.0
PRODID:-//Copyright Society of the South - ECPv6.15.20//NONSGML v1.0//EN
CALSCALE:GREGORIAN
METHOD:PUBLISH
X-ORIGINAL-URL:https://copyrightsocietyofthesouth.com
X-WR-CALDESC:Events for Copyright Society of the South
REFRESH-INTERVAL;VALUE=DURATION:PT1H
X-Robots-Tag:noindex
X-PUBLISHED-TTL:PT1H
BEGIN:VTIMEZONE
TZID:America/Chicago
BEGIN:DAYLIGHT
TZOFFSETFROM:-0600
TZOFFSETTO:-0500
TZNAME:CDT
DTSTART:20220313T080000
END:DAYLIGHT
BEGIN:STANDARD
TZOFFSETFROM:-0500
TZOFFSETTO:-0600
TZNAME:CST
DTSTART:20221106T070000
END:STANDARD
BEGIN:DAYLIGHT
TZOFFSETFROM:-0600
TZOFFSETTO:-0500
TZNAME:CDT
DTSTART:20230312T080000
END:DAYLIGHT
BEGIN:STANDARD
TZOFFSETFROM:-0500
TZOFFSETTO:-0600
TZNAME:CST
DTSTART:20231105T070000
END:STANDARD
BEGIN:DAYLIGHT
TZOFFSETFROM:-0600
TZOFFSETTO:-0500
TZNAME:CDT
DTSTART:20240310T080000
END:DAYLIGHT
BEGIN:STANDARD
TZOFFSETFROM:-0500
TZOFFSETTO:-0600
TZNAME:CST
DTSTART:20241103T070000
END:STANDARD
END:VTIMEZONE
BEGIN:VEVENT
DTSTART;TZID=America/Chicago:20230911T100000
DTEND;TZID=America/Chicago:20230911T130000
DTSTAMP:20260420T210028
CREATED:20230821T230042Z
LAST-MODIFIED:20230905T192559Z
UID:1963-1694426400-1694437200@copyrightsocietyofthesouth.com
SUMMARY:September 11\, 2023 - Fall Copyright Symposium
DESCRIPTION:Copyright comes to Nashville!   Enjoy three awesome sessions with Judge Steve Ruwe and John Riley as they discuss the current landscape of copyright from the front lines. This event will NOT be recorded.  Don’t miss it!  \nGuest Speakers/Panelists: \n \n  \nJudge Steve Ruwe has a broad background in copyright and intellectual property law. Before his appointment to the Copyright Royalty Board\, Ruwe served as assistant general counsel in the Copyright Office’s Office of the General Counsel. He began his service in the Copyright Office in 2006\, rising from the position of attorney-advisor to assistant general counsel. Ruwe’s work at the Copyright Office ranged over many issues\, including statutory licensing\, CRB rate determinations\, regulations\, policy studies\, and appellate litigation. \nFrom 2016 to 2018\, he held the position of attorney advisor for copyright law and policy with the Patent and Trademark Office’s Office of Policy and International Affairs. With the PTO\, Ruwe served on U.S. delegations in international negotiations\, including NAFTA/USMCA negotiations and treaty negotiations at the World Intellectual Property Organization’s Standing Committee on Copyright and Related Rights. \n  \n  \n  \n \n  \nJohn Riley is an Assistant General Counsel at the Copyright Office where he has contributed to the United States Government’s briefs in the Petrella and Aereo Supreme Court cases\, the Copyright Small Claims\, Copyright and the Music Marketplace\, and Unclaimed Royalties: Best Practice Recommendations for the Mechanical Licensing Collective policy reports\, and\, among other regulatory work\, has authored rules implementing the Music Modernization Act\, Copyright Alternative in Small-Claims Enforcement (“CASE”) Act of 2020\, and the GRAM registration option. \nPrior to joining the Copyright Office\, John worked as the Senior Manager of Intellectual Property Enforcement at the United States Chamber of Commerce’s Global Intellectual Property Center. John earned his LL.M. in Intellectual Property Law from the George Washington University Law School and his JD from the Dickinson School of Law. He holds BA degrees in Political Science\, English\, and Communication Arts & Sciences from Penn State University.  He has been recognized by the American Intellectual Property Law Association for his distinguished service and contributions in the field of intellectual property law. \n  \n  \n  \n****This is a private event for Society members and their registered guests.  If you are interested in becoming a member of the Copyright Society of the South\, or if you are an active member and did not receive your email invitation\,  contact us at copyrightsocietyofthesouth@gmail.com .***
URL:https://copyrightsocietyofthesouth.com/event/september-11-2023-fall-copyright-symposium/
LOCATION:Belmont University\, 1900 Belmont Avenue\, Nashville\, TN\, 37212\, United States
CATEGORIES:Calendar of Events,Upcoming Events
END:VEVENT
END:VCALENDAR