BEGIN:VCALENDAR
VERSION:2.0
PRODID:-//Copyright Society of the South - ECPv6.15.20//NONSGML v1.0//EN
CALSCALE:GREGORIAN
METHOD:PUBLISH
X-ORIGINAL-URL:https://copyrightsocietyofthesouth.com
X-WR-CALDESC:Events for Copyright Society of the South
REFRESH-INTERVAL;VALUE=DURATION:PT1H
X-Robots-Tag:noindex
X-PUBLISHED-TTL:PT1H
BEGIN:VTIMEZONE
TZID:America/Chicago
BEGIN:DAYLIGHT
TZOFFSETFROM:-0600
TZOFFSETTO:-0500
TZNAME:CDT
DTSTART:20210314T080000
END:DAYLIGHT
BEGIN:STANDARD
TZOFFSETFROM:-0500
TZOFFSETTO:-0600
TZNAME:CST
DTSTART:20211107T070000
END:STANDARD
BEGIN:DAYLIGHT
TZOFFSETFROM:-0600
TZOFFSETTO:-0500
TZNAME:CDT
DTSTART:20220313T080000
END:DAYLIGHT
BEGIN:STANDARD
TZOFFSETFROM:-0500
TZOFFSETTO:-0600
TZNAME:CST
DTSTART:20221106T070000
END:STANDARD
BEGIN:DAYLIGHT
TZOFFSETFROM:-0600
TZOFFSETTO:-0500
TZNAME:CDT
DTSTART:20230312T080000
END:DAYLIGHT
BEGIN:STANDARD
TZOFFSETFROM:-0500
TZOFFSETTO:-0600
TZNAME:CST
DTSTART:20231105T070000
END:STANDARD
END:VTIMEZONE
BEGIN:VEVENT
DTSTART;TZID=America/Chicago:20220927T113000
DTEND;TZID=America/Chicago:20220927T130000
DTSTAMP:20260421T115424
CREATED:20220921T173548Z
LAST-MODIFIED:20220921T173548Z
UID:1844-1664278200-1664283600@copyrightsocietyofthesouth.com
SUMMARY:Lunch with Mozaic's Marcus Cobb
DESCRIPTION:About Marcus Cobb\nMarcus Cobb is CEO and co-founder of FinTech company Mozaic\, fka Jammber (www.mozaic.io). Cobb\, Nashville NEXT’s 2019 Entrepreneur of the Year\, is a serial entrepreneur\, technologist\, product designer and dynamic public speaker.  His striking journey took him from modest beginnings in El Pasto to technology leader for Fortune 50 companies\, amassing a remarkable project portfolio\, including Microsoft\, Dell\, and CitiGroup. Mozaic is an API-first\, global split payment platform for enterprise companies and creative professionals where users can automatically send and receive payments with collaborates across the globe.  It provides smart contracts that automate split income among creative teams. Mozaic.io was recently selected for the 2022 Google for Startups Accelerator: Black Founders cohort\, and also won the LGBTQ+ category in Visa’s Everywhere initiative pitch competition\, which included a strategic partnership with Visa. Marcus is a founding member of the Rolling Stone Culture Council and Berklee’s Open Music Initiative.  He also serves on the boards of the Music Business Association and Illinois Technology Foundation. \n____________________ \n****This is a private event for Society members and their registered guests.  If you are interested in becoming a member of the Copyright Society of the South\, contact us today at copyrightsocietyofthesouth@gmail.com .*** \n 
URL:https://copyrightsocietyofthesouth.com/event/lunch-with-mozaics-marcus-cobb/
LOCATION:BMI\, 10 Music Square East\, Nashville\, TN\, 37203\, United States
CATEGORIES:Calendar of Events,Upcoming Events
END:VEVENT
END:VCALENDAR